BEGIN:VCALENDAR
VERSION:2.0
PRODID:-//New Economy Initiative//NONSGML v1.0//EN
CALSCALE:GREGORIAN
METHOD:PUBLISH
X-WR-CALNAME:New Economy Initiative
X-ORIGINAL-URL:https://neweconomyinitiative.org
X-WR-CALDESC:Events for New Economy Initiative
BEGIN:VEVENT
DTSTART;TZID=America/Detroit:20200514T150000
DTEND;TZID=America/Detroit:20200514T160000
DTSTAMP:20260419T133351
CREATED:20200504T170044
LAST-MODIFIED:20200504T170654
UID:4458-15:00-16:00@neweconomyinitiative.org
SUMMARY:Decision-making in Times of Stress
DESCRIPTION:Join us for this free interactive webinar\, where you'll learn about (and practice using) a set of tools and practices to upgrade your executive team’s decision-making to serve you now and well into the future.
URL:https://neweconomyinitiative.org/event/decision-making-in-times-of-stress/
LOCATION:
CATEGORIES:Webinar
END:VEVENT
END:VCALENDAR
