BEGIN:VCALENDAR
VERSION:2.0
PRODID:-//New Economy Initiative//NONSGML v1.0//EN
CALSCALE:GREGORIAN
METHOD:PUBLISH
X-WR-CALNAME:New Economy Initiative
X-ORIGINAL-URL:https://neweconomyinitiative.org
X-WR-CALDESC:Events for New Economy Initiative
BEGIN:VEVENT
DTSTART;TZID=America/Detroit:20200507T190000
DTEND;TZID=America/Detroit:20200507T200000
DTSTAMP:20260419T223312
CREATED:20200504T170615
LAST-MODIFIED:20200504T172330
UID:4460-19:00-20:00@neweconomyinitiative.org
SUMMARY:RESPONDING TO COVID-19  A Special Series from NPQ
DESCRIPTION:Join NPQ for an hour of very real talk among a panel of seasoned executives and nonprofit finance experts. What practices have they used to stabilize their own organizations? To keep staff and board informed and aligned? What are they learning that may change their approach to financial leadership going forward?
URL:https://neweconomyinitiative.org/event/responding-to-covid-19-a-special-series-from-npq/
LOCATION:
CATEGORIES:Webinar
END:VEVENT
END:VCALENDAR
