BEGIN:VCALENDAR
VERSION:2.0
PRODID:-//New Economy Initiative//NONSGML v1.0//EN
CALSCALE:GREGORIAN
METHOD:PUBLISH
X-WR-CALNAME:New Economy Initiative
X-ORIGINAL-URL:https://neweconomyinitiative.org
X-WR-CALDESC:Events for New Economy Initiative
BEGIN:VEVENT
DTSTART;TZID=America/Detroit:20200715T080000
DTEND;TZID=America/Detroit:20200715T180000
DTSTAMP:20260425T001259
CREATED:20200504T172627
LAST-MODIFIED:20200707T145950
UID:4484-08:00-18:00@neweconomyinitiative.org
SUMMARY:MedHealth Summit
DESCRIPTION:The MedHealth Summit is changing the way that healthcare technology is discovered and sourced in Southeast Michigan and Southwest Ontario. By bringing together healthcare organizations\, innovators\, research institutions\, and investors for custom-matched\, one-on-one meetings and educational programming\, the MedHealth Summit catalyzes partnerships and supports the growth of healthcare innovation businesses.
URL:https://neweconomyinitiative.org/event/medhealth-summit/
LOCATION:
CATEGORIES:Workshops
END:VEVENT
END:VCALENDAR
