BEGIN:VCALENDAR
VERSION:2.0
PRODID:-//New Economy Initiative//NONSGML v1.0//EN
CALSCALE:GREGORIAN
METHOD:PUBLISH
X-WR-CALNAME:New Economy Initiative
X-ORIGINAL-URL:https://neweconomyinitiative.org
X-WR-CALDESC:Events for New Economy Initiative
BEGIN:VEVENT
DTSTART;TZID=America/Detroit:20200517T170000
DTEND;TZID=America/Detroit:20200517T181500
DTSTAMP:20260419T120518
CREATED:20200505T112806
LAST-MODIFIED:20200505T112825
UID:4496-17:00-18:15@neweconomyinitiative.org
SUMMARY:May Citywide SOUP
DESCRIPTION:SOUP will be held virtually on ZOOM\n\nRegister Today\, $5 donation for a vote!\n\nLearn about creative projects happening in Detroit.\n\nVote on which project to fund with the money raised from the dinner.
URL:https://neweconomyinitiative.org/event/may-citywide-soup/
LOCATION:
CATEGORIES:Webinar
END:VEVENT
END:VCALENDAR
