BEGIN:VCALENDAR
VERSION:2.0
PRODID:-//New Economy Initiative//NONSGML v1.0//EN
CALSCALE:GREGORIAN
METHOD:PUBLISH
X-WR-CALNAME:New Economy Initiative
X-ORIGINAL-URL:https://neweconomyinitiative.org
X-WR-CALDESC:Events for New Economy Initiative
BEGIN:VEVENT
DTSTART;TZID=America/Detroit:20200514T130000
DTEND;TZID=America/Detroit:20200514T140000
DTSTAMP:20260419T150057
CREATED:20200505T140132
LAST-MODIFIED:20200505T140132
UID:4504-13:00-14:00@neweconomyinitiative.org
SUMMARY:How to Build a Mailchimp Landing Page
DESCRIPTION:Ready to get your business online and start selling today? Westfield Creative co-founder and Mailchimp partner\, Emily Ryan\, is the host of our How to Build a Mailchimp Landing Page workshop.
URL:https://neweconomyinitiative.org/event/how-to-build-a-mailchimp-landing-page/
LOCATION:
CATEGORIES:Webinar
END:VEVENT
END:VCALENDAR
