BEGIN:VCALENDAR
VERSION:2.0
PRODID:-//New Economy Initiative//NONSGML v1.0//EN
CALSCALE:GREGORIAN
METHOD:PUBLISH
X-WR-CALNAME:New Economy Initiative
X-ORIGINAL-URL:https://neweconomyinitiative.org
X-WR-CALDESC:Events for New Economy Initiative
BEGIN:VEVENT
DTSTART;TZID=America/Detroit:20200511T140000
DTEND;TZID=America/Detroit:20200511T160000
DTSTAMP:20260419T210554
CREATED:20200507T094854
LAST-MODIFIED:20200507T094854
UID:4514-14:00-16:00@neweconomyinitiative.org
SUMMARY:ProsperUS Detroit Webinar: Managing Online Ads
DESCRIPTION:Juan Carlos Dueweke-Perez of Featherstone Moments (2018 ProsperUS Detroit Service Provider of the Year)\, will guide webinar participants through an overview of tools and best practices for creating and managing online ads. Topics will include shipping/delivery setup\, e-gift card sales and ad management via social media platforms.
URL:https://neweconomyinitiative.org/event/prosperus-detroit-webinar-managing-online-ads/
LOCATION:
CATEGORIES:Webinar
END:VEVENT
END:VCALENDAR
