BEGIN:VCALENDAR
VERSION:2.0
PRODID:-//New Economy Initiative//NONSGML v1.0//EN
CALSCALE:GREGORIAN
METHOD:PUBLISH
X-WR-CALNAME:New Economy Initiative
X-ORIGINAL-URL:https://neweconomyinitiative.org
X-WR-CALDESC:Events for New Economy Initiative
BEGIN:VEVENT
DTSTART;TZID=America/Detroit:20200513T150000
DTEND;TZID=America/Detroit:20200513T163000
DTSTAMP:20260419T163338
CREATED:20200508T151901
LAST-MODIFIED:20200508T151901
UID:4518-15:00-16:30@neweconomyinitiative.org
SUMMARY:Second Wave of COVID-19: How to prepare your Customers & Employees
DESCRIPTION:This 90-minute online webinar will bring together business leaders from various industries to discuss what we've learned from how organisations reacted to COVID-19 and to discuss the potential impact of future lockdowns.
URL:https://neweconomyinitiative.org/event/second-wave-of-covid-19-how-to-prepare-your-customers-employees/
LOCATION:
CATEGORIES:Webinar
END:VEVENT
END:VCALENDAR
