BEGIN:VCALENDAR
VERSION:2.0
PRODID:-//New Economy Initiative//NONSGML v1.0//EN
CALSCALE:GREGORIAN
METHOD:PUBLISH
X-WR-CALNAME:New Economy Initiative
X-ORIGINAL-URL:https://neweconomyinitiative.org
X-WR-CALDESC:Events for New Economy Initiative
BEGIN:VEVENT
DTSTART;TZID=America/Detroit:20200513T130000
DTEND;TZID=America/Detroit:20200513T140000
DTSTAMP:20260419T180517
CREATED:20200512T091756
LAST-MODIFIED:20200512T091756
UID:4525-13:00-14:00@neweconomyinitiative.org
SUMMARY:Reopening Your Business
DESCRIPTION:This webinar will review policies and steps recommended by the Centers for Disease Control and Prevention (CDC).
URL:https://neweconomyinitiative.org/event/reopening-your-business/
LOCATION:
CATEGORIES:Webinar
END:VEVENT
END:VCALENDAR
