BEGIN:VCALENDAR
VERSION:2.0
PRODID:-//New Economy Initiative//NONSGML v1.0//EN
CALSCALE:GREGORIAN
METHOD:PUBLISH
X-WR-CALNAME:New Economy Initiative
X-ORIGINAL-URL:https://neweconomyinitiative.org
X-WR-CALDESC:Events for New Economy Initiative
BEGIN:VEVENT
DTSTART;TZID=America/Detroit:20200513T110000
DTEND;TZID=America/Detroit:20200513T120000
DTSTAMP:20260419T192823
CREATED:20200512T102624
LAST-MODIFIED:20200512T102624
UID:4527-11:00-12:00@neweconomyinitiative.org
SUMMARY:How to Fully Maximize PPP Loan Forgiveness
DESCRIPTION:Join a panel of experts assembled to help Paycheck Protection Program loan recipients make the most of their loans. We'll cover documentation requirements\, important timelines\, scenarios for different business types\, and a real-world success story.
URL:https://neweconomyinitiative.org/event/how-to-fully-maximize-ppp-loan-forgiveness/
LOCATION:
CATEGORIES:Webinar
END:VEVENT
END:VCALENDAR
