BEGIN:VCALENDAR
VERSION:2.0
PRODID:-//New Economy Initiative//NONSGML v1.0//EN
CALSCALE:GREGORIAN
METHOD:PUBLISH
X-WR-CALNAME:New Economy Initiative
X-ORIGINAL-URL:https://neweconomyinitiative.org
X-WR-CALDESC:Events for New Economy Initiative
BEGIN:VEVENT
DTSTART;TZID=America/Detroit:20200519T110000
DTEND;TZID=America/Detroit:20200519T120000
DTSTAMP:20260419T105541
CREATED:20200513T102950
LAST-MODIFIED:20200513T102950
UID:4529-11:00-12:00@neweconomyinitiative.org
SUMMARY:The #NewNormal Report 3 – Emotions & Retail
DESCRIPTION:In this episode\, revolving around Emotions & Retail\, Pulsar will discuss:\n\n⦿ a new framework we developed to track the fluctuation of emotions at the collective level over the course of this crisis\n⦿ "revenge buying" and trends around luxury retail\n⦿ several other breakout retail-related trends
URL:https://neweconomyinitiative.org/event/the-newnormal-report-3-emotions-retail/
LOCATION:
CATEGORIES:Webinar
END:VEVENT
END:VCALENDAR
