BEGIN:VCALENDAR
VERSION:2.0
PRODID:-//New Economy Initiative//NONSGML v1.0//EN
CALSCALE:GREGORIAN
METHOD:PUBLISH
X-WR-CALNAME:New Economy Initiative
X-ORIGINAL-URL:https://neweconomyinitiative.org
X-WR-CALDESC:Events for New Economy Initiative
BEGIN:VEVENT
DTSTART;TZID=America/Detroit:20200519T111500
DTEND;TZID=America/Detroit:20200519T120000
DTSTAMP:20260419T092710
CREATED:20200518T124150
LAST-MODIFIED:20200518T124150
UID:4533-11:15-12:00@neweconomyinitiative.org
SUMMARY:Physical Return And Work Reimagined
DESCRIPTION:With the right approach\, organizations can position themselves to manage the safe transition and transform for the future. This session will focus on ways to achieve both a trusted transition and future transformation.
URL:https://neweconomyinitiative.org/event/physical-return-and-work-reimagined/
LOCATION:
CATEGORIES:Webinar
END:VEVENT
END:VCALENDAR
