BEGIN:VCALENDAR
VERSION:2.0
PRODID:-//New Economy Initiative//NONSGML v1.0//EN
CALSCALE:GREGORIAN
METHOD:PUBLISH
X-WR-CALNAME:New Economy Initiative
X-ORIGINAL-URL:https://neweconomyinitiative.org
X-WR-CALDESC:Events for New Economy Initiative
BEGIN:VEVENT
DTSTART;TZID=America/Detroit:20200708T120000
DTEND;TZID=America/Detroit:20200708T130000
DTSTAMP:20260425T070124
CREATED:20200622T123647
LAST-MODIFIED:20200622T123647
UID:4609-12:00-13:00@neweconomyinitiative.org
SUMMARY:The Role of Business in Reducing Barriers
DESCRIPTION:Taking place on July 8\, this new forum will discuss how businesses can reduce barriers to employment and help build a truly inclusive economy. With Sam Lewis\, Genevieve Martin and Laura Claster Bisesto!
URL:https://neweconomyinitiative.org/event/the-role-of-business-in-reducing-barriers/
LOCATION:
CATEGORIES:Webinar
END:VEVENT
END:VCALENDAR
