BEGIN:VCALENDAR
VERSION:2.0
PRODID:-//New Economy Initiative//NONSGML v1.0//EN
CALSCALE:GREGORIAN
METHOD:PUBLISH
X-WR-CALNAME:New Economy Initiative
X-ORIGINAL-URL:https://neweconomyinitiative.org
X-WR-CALDESC:Events for New Economy Initiative
BEGIN:VEVENT
DTSTART;TZID=America/Detroit:20200802T000000
DTEND;TZID=America/Detroit:20200802T234500
DTSTAMP:20260424T164325
CREATED:20200622T125639
LAST-MODIFIED:20200622T125639
UID:4612-00:00-23:45@neweconomyinitiative.org
SUMMARY:ProsperUS Entrepreneur Training Application
DESCRIPTION:This 12 to 15 week program will build your understanding of business concepts and assist in the completion of key elements of a business plan and finances.
URL:https://neweconomyinitiative.org/event/prosperus-entrepreneur-training-application/
LOCATION:
CATEGORIES:Application-Deadlines
END:VEVENT
END:VCALENDAR
