BEGIN:VCALENDAR
VERSION:2.0
PRODID:-//New Economy Initiative//NONSGML v1.0//EN
CALSCALE:GREGORIAN
METHOD:PUBLISH
X-WR-CALNAME:New Economy Initiative
X-ORIGINAL-URL:https://neweconomyinitiative.org
X-WR-CALDESC:Events for New Economy Initiative
BEGIN:VEVENT
DTSTART;TZID=America/Detroit:20200707T183000
DTEND;TZID=America/Detroit:20200707T193000
DTSTAMP:20260420T192057
CREATED:20200707T145419
LAST-MODIFIED:20200707T145419
UID:4653-18:30-19:30@neweconomyinitiative.org
SUMMARY:Innovation and Inspiration: Black Food Businesses Virtual Tour
DESCRIPTION:This tour will highlight some of the most innovative and inspirational Black-owned spots throughout the city. Some have been around for decades while others are just launching their dreams. After this tour you’ll be full of good information and hungry for some amazing Detroit morsels.\n\nYou will receive a Zoom link in your Eventbrite confirmation email.
URL:https://neweconomyinitiative.org/event/innovation-and-inspiration-black-food-businesses-virtual-tour/
LOCATION:
CATEGORIES:Webinar
END:VEVENT
END:VCALENDAR
