BEGIN:VCALENDAR
VERSION:2.0
PRODID:-//New Economy Initiative//NONSGML v1.0//EN
CALSCALE:GREGORIAN
METHOD:PUBLISH
X-WR-CALNAME:New Economy Initiative
X-ORIGINAL-URL:https://neweconomyinitiative.org
X-WR-CALDESC:Events for New Economy Initiative
BEGIN:VEVENT
DTSTART;TZID=America/Detroit:20200720T180000
DTEND;TZID=America/Detroit:20200720T200000
DTSTAMP:20260424T211833
CREATED:20200714T131029
LAST-MODIFIED:20200714T131029
UID:4657-18:00-20:00@neweconomyinitiative.org
SUMMARY:Knowledge is Power: Safe Dining in the Post-Pandemic Era
DESCRIPTION:Safe Dining? What are the best protocols to keep food workers healthy & safe when preparing\, serving & delivering meals? Join FoodLab as we talk with Eric Rivera\, Chef/Owner of Addo Seattle & Irene Li\, the six-time James Beard-nominated chef and owner of Boston's Mei Mei as we discuss how a post-pandemic restaurant might look.
URL:https://neweconomyinitiative.org/event/knowledge-is-power-safe-dining-in-the-post-pandemic-era/
LOCATION:
CATEGORIES:Webinar
END:VEVENT
END:VCALENDAR
