BEGIN:VCALENDAR
VERSION:2.0
PRODID:-//New Economy Initiative//NONSGML v1.0//EN
CALSCALE:GREGORIAN
METHOD:PUBLISH
X-WR-CALNAME:New Economy Initiative
X-ORIGINAL-URL:https://neweconomyinitiative.org
X-WR-CALDESC:Events for New Economy Initiative
BEGIN:VEVENT
DTSTART;TZID=America/Detroit:20200728T180000
DTEND;TZID=America/Detroit:20200728T193000
DTSTAMP:20260424T194435
CREATED:20200723T153326
LAST-MODIFIED:20200723T153326
UID:4661-18:00-19:30@neweconomyinitiative.org
SUMMARY:Worker Ownership 101
DESCRIPTION:Join C2BE on Tuesday\, July 28 from 6:00 - 7:30 p.m. to learn the ins and outs of employee ownership at a FREE event\, "Worker Ownership 101." This interactive webinar is for entrepreneurs\, employees\, and community members interested in starting or transitioning to a worker-owned business or cooperative.
URL:https://neweconomyinitiative.org/event/worker-ownership-101/
LOCATION:
CATEGORIES:Webinar
END:VEVENT
END:VCALENDAR
