BEGIN:VCALENDAR
VERSION:2.0
PRODID:-//New Economy Initiative//NONSGML v1.0//EN
CALSCALE:GREGORIAN
METHOD:PUBLISH
X-WR-CALNAME:New Economy Initiative
X-ORIGINAL-URL:https://neweconomyinitiative.org
X-WR-CALDESC:Events for New Economy Initiative
BEGIN:VEVENT
DTSTART;TZID=America/Detroit:20200806T120000
DTEND;TZID=America/Detroit:20200806T130000
DTSTAMP:20260424T100920
CREATED:20200729T144024
LAST-MODIFIED:20200729T144024
UID:4665-12:00-13:00@neweconomyinitiative.org
SUMMARY:Listening Session: Michigan's Road to Recovery
DESCRIPTION:Please join the Detroit Regional Chamber for a listening session to review and discuss current programs and resources for startups.
URL:https://neweconomyinitiative.org/event/listening-session-michigans-road-to-recovery/
LOCATION:
CATEGORIES:Webinar
END:VEVENT
END:VCALENDAR
