BEGIN:VCALENDAR
VERSION:2.0
PRODID:-//New Economy Initiative//NONSGML v1.0//EN
CALSCALE:GREGORIAN
METHOD:PUBLISH
X-WR-CALNAME:New Economy Initiative
X-ORIGINAL-URL:https://neweconomyinitiative.org
X-WR-CALDESC:Events for New Economy Initiative
BEGIN:VEVENT
DTSTART;TZID=America/Detroit:20200804T120000
DTEND;TZID=America/Detroit:20200804T130000
DTSTAMP:20260424T133509
CREATED:20200729T150446
LAST-MODIFIED:20200729T150446
UID:4668-12:00-13:00@neweconomyinitiative.org
SUMMARY:Rocket Mortgage Demo Day Info Session
DESCRIPTION:Rocket Mortgage Detroit Demo Day has been reinvented as an all-virtual event to meet the needs of entrepreneurs during the COVID-19 pandemic.
URL:https://neweconomyinitiative.org/event/rocket-mortgage-demo-day-info-session/
LOCATION:
CATEGORIES:Webinar
END:VEVENT
END:VCALENDAR
