BEGIN:VCALENDAR
VERSION:2.0
PRODID:-//New Economy Initiative//NONSGML v1.0//EN
CALSCALE:GREGORIAN
METHOD:PUBLISH
X-WR-CALNAME:New Economy Initiative
X-ORIGINAL-URL:https://neweconomyinitiative.org
X-WR-CALDESC:Events for New Economy Initiative
BEGIN:VEVENT
DTSTART;TZID=America/Detroit:20200813T180000
DTEND;TZID=America/Detroit:20200813T190000
DTSTAMP:20260424T011415
CREATED:20200729T150908
LAST-MODIFIED:20200729T150908
UID:4670-18:00-19:00@neweconomyinitiative.org
SUMMARY:Startup Detroit Open Pitch Night
DESCRIPTION:Join Detroit's growing startup community for our monthly Startup Detroit Pitch Night. This month we're going VIRTUAL.\n\nEvery month three new founders and creators pitch a product\, idea\, or technology company to the crowd. Listen in to three new presentations\, followed by Q&A\, and general community updates.
URL:https://neweconomyinitiative.org/event/startup-detroit-open-pitch-night-2/
LOCATION:
CATEGORIES:Webinar
END:VEVENT
END:VCALENDAR
