BEGIN:VCALENDAR
VERSION:2.0
PRODID:-//New Economy Initiative//NONSGML v1.0//EN
CALSCALE:GREGORIAN
METHOD:PUBLISH
X-WR-CALNAME:New Economy Initiative
X-ORIGINAL-URL:https://neweconomyinitiative.org
X-WR-CALDESC:Events for New Economy Initiative
BEGIN:VEVENT
DTSTART;TZID=America/Detroit:20200730T180000
DTEND;TZID=America/Detroit:20200730T190000
DTSTAMP:20260424T181236
CREATED:20200729T151852
LAST-MODIFIED:20200729T151852
UID:4673-18:00-19:00@neweconomyinitiative.org
SUMMARY:Jefferson-Chalmers Mainstreet Master Plan Community Meeting - The Reveal
DESCRIPTION:Join East Jefferson Development Corp. (EJDevCo) and Jefferson East\, Inc. (JEI) for our next virtual monthly community meeting where we will unveil the Jefferson-Chalmers Mainstreet Master Plan!
URL:https://neweconomyinitiative.org/event/jefferson-chalmers-mainstreet-master-plan-community-meeting-the-reveal/
LOCATION:
CATEGORIES:Webinar
END:VEVENT
END:VCALENDAR
