BEGIN:VCALENDAR
VERSION:2.0
PRODID:-//New Economy Initiative//NONSGML v1.0//EN
CALSCALE:GREGORIAN
METHOD:PUBLISH
X-WR-CALNAME:New Economy Initiative
X-ORIGINAL-URL:https://neweconomyinitiative.org
X-WR-CALDESC:Events for New Economy Initiative
BEGIN:VEVENT
DTSTART;TZID=America/Detroit:20200820T170000
DTEND;TZID=America/Detroit:20200820T200000
DTSTAMP:20260423T130833
CREATED:20200729T152717
LAST-MODIFIED:20200729T152717
UID:4676-17:00-20:00@neweconomyinitiative.org
SUMMARY:VIRTUAL OPEN OFFICE HOURS for Warrendale/Cody-Rouge Small Business Owners
DESCRIPTION:Virtual open office hours are designed for small business owners seeking coaching on topics concerning financial operations management.
URL:https://neweconomyinitiative.org/event/virtual-open-office-hours-for-warrendale-cody-rouge-small-business-owners/
LOCATION:
CATEGORIES:Webinar
END:VEVENT
END:VCALENDAR
