BEGIN:VCALENDAR
VERSION:2.0
PRODID:-//New Economy Initiative//NONSGML v1.0//EN
CALSCALE:GREGORIAN
METHOD:PUBLISH
X-WR-CALNAME:New Economy Initiative
X-ORIGINAL-URL:https://neweconomyinitiative.org
X-WR-CALDESC:Events for New Economy Initiative
BEGIN:VEVENT
DTSTART;TZID=America/Detroit:20200818T090000
DTEND;TZID=America/Detroit:20200818T120000
DTSTAMP:20260423T200436
CREATED:20200729T153958
LAST-MODIFIED:20200729T153958
UID:4683-09:00-12:00@neweconomyinitiative.org
SUMMARY:VIRTUAL OPEN OFFICE HOURS for Dearborn Small Business Owners
DESCRIPTION:Virtual open office hours are designed for small business owners seeking coaching on topics concerning financial operations management.
URL:https://neweconomyinitiative.org/event/virtual-open-office-hours-for-dearborn-small-business-owners/
LOCATION:
CATEGORIES:Webinar
END:VEVENT
END:VCALENDAR
