BEGIN:VCALENDAR
VERSION:2.0
PRODID:-//New Economy Initiative//NONSGML v1.0//EN
CALSCALE:GREGORIAN
METHOD:PUBLISH
X-WR-CALNAME:New Economy Initiative
X-ORIGINAL-URL:https://neweconomyinitiative.org
X-WR-CALDESC:Events for New Economy Initiative
BEGIN:VEVENT
DTSTART;TZID=America/Detroit:20200805T120000
DTEND;TZID=America/Detroit:20200805T130000
DTSTAMP:20260424T115539
CREATED:20200803T142621
LAST-MODIFIED:20200803T142621
UID:4694-12:00-13:00@neweconomyinitiative.org
SUMMARY:Miosha Small Business COVID-19 Training Registration
DESCRIPTION:Join Global Detroit and Michigan Occupational Safety and Health Administration(MIOSHA) for a webinar on how to support immigrant small business owners in navigating the process and procedures to safely operate their business under COVID-19 re-opening guidelines.
URL:https://neweconomyinitiative.org/event/miosha-small-business-covid-19-training-registration/
LOCATION:
CATEGORIES:Webinar
END:VEVENT
END:VCALENDAR
