BEGIN:VCALENDAR
VERSION:2.0
PRODID:-//New Economy Initiative//NONSGML v1.0//EN
CALSCALE:GREGORIAN
METHOD:PUBLISH
X-WR-CALNAME:New Economy Initiative
X-ORIGINAL-URL:https://neweconomyinitiative.org
X-WR-CALDESC:Events for New Economy Initiative
BEGIN:VEVENT
DTSTART;TZID=America/Detroit:20200812T110000
DTEND;TZID=America/Detroit:20200812T130000
DTSTAMP:20260424T011817
CREATED:20200803T142744
LAST-MODIFIED:20200803T142926
UID:4696-11:00-13:00@neweconomyinitiative.org
SUMMARY:Miosha Stakeholders COVID-19 Training-The Trainer Registration
DESCRIPTION:Join Global Detroit and Michigan Occupational Safety and Health Administration(MIOSHA) for a webinar on how to support immigrant small business owners in navigating the process and procedures to safely operate their business under COVID-19 re-opening guidelines.
URL:https://neweconomyinitiative.org/event/miosha-stakeholders-covid-19-training-the-trainer-registration/
LOCATION:
CATEGORIES:Webinar
END:VEVENT
END:VCALENDAR
