BEGIN:VCALENDAR
VERSION:2.0
PRODID:-//New Economy Initiative//NONSGML v1.0//EN
CALSCALE:GREGORIAN
METHOD:PUBLISH
X-WR-CALNAME:New Economy Initiative
X-ORIGINAL-URL:https://neweconomyinitiative.org
X-WR-CALDESC:Events for New Economy Initiative
BEGIN:VEVENT
DTSTART;TZID=America/Detroit:20200811T190000
DTEND;TZID=America/Detroit:20200811T210000
DTSTAMP:20260424T030300
CREATED:20200803T153128
LAST-MODIFIED:20200803T153128
UID:4702-19:00-21:00@neweconomyinitiative.org
SUMMARY:DESTINATION REPARATION: PART TWO
DESCRIPTION:What is the Black New Deal? Join us for Destination Reparation\, a two-night\, cross-city exchange hosted by Urban Consulate that will encourage deeper understanding around historical attempts and effects of reparations; illustrate current manifestations of reparations and their impacts; spur imagination\, connection and collective action; and offer an entry point to discourse that policymakers and activists can access and use towards the advancement of this work across sectors and cities.
URL:https://neweconomyinitiative.org/event/destination-reparation-part-two/
LOCATION:
CATEGORIES:Webinar
END:VEVENT
END:VCALENDAR
