BEGIN:VCALENDAR
VERSION:2.0
PRODID:-//New Economy Initiative//NONSGML v1.0//EN
CALSCALE:GREGORIAN
METHOD:PUBLISH
X-WR-CALNAME:New Economy Initiative
X-ORIGINAL-URL:https://neweconomyinitiative.org
X-WR-CALDESC:Events for New Economy Initiative
BEGIN:VEVENT
DTSTART;TZID=America/Detroit:20200817T180000
DTEND;TZID=America/Detroit:20200817T200000
DTSTAMP:20260423T214814
CREATED:20200806T131938
LAST-MODIFIED:20200806T131938
UID:4706-18:00-20:00@neweconomyinitiative.org
SUMMARY:Earth is Power: Redefining Eco-Friendly Practices
DESCRIPTION:Join FoodLab for the 2nd installment of  our "On The Table" roundtable discussion.  We will talk to Alicia Kennedy\, Food & Drink writer\, Martha Hoover\, Founder/Owner of Public Greens\, Cafe Patachou and The Patachou Foundation\, and Rohani Foulkes\, Co-Founder of Folk Detroit.
URL:https://neweconomyinitiative.org/event/earth-is-power-redefining-eco-friendly-practices/
LOCATION:
CATEGORIES:Webinar
END:VEVENT
END:VCALENDAR
