BEGIN:VCALENDAR
VERSION:2.0
PRODID:-//New Economy Initiative//NONSGML v1.0//EN
CALSCALE:GREGORIAN
METHOD:PUBLISH
X-WR-CALNAME:New Economy Initiative
X-ORIGINAL-URL:https://neweconomyinitiative.org
X-WR-CALDESC:Events for New Economy Initiative
BEGIN:VEVENT
DTSTART;TZID=America/Detroit:20200818T140000
DTEND;TZID=America/Detroit:20200818T150000
DTSTAMP:20260423T164000
CREATED:20200810T131537
LAST-MODIFIED:20200810T131537
UID:4715-14:00-15:00@neweconomyinitiative.org
SUMMARY:Valuing Black Lives\, Property & Cities
DESCRIPTION:Join us for a virtual conversation with Dr. Perry\, a fellow in the Metropolitan Policy Program at Brookings Institution\, hosted by Orlando P. Bailey of BridgeDetroit and Urban Consulate with Detroit guests:\n\n \tAnika Goss\, Detroit Future City\n \tChase L. Cantrell\, Building Community Value\n \tEkanem N. Obong\, neighborhood developer & District Director for Michigan State Senator Erika Geiss (SD6)\n
URL:https://neweconomyinitiative.org/event/valuing-black-lives-property-cities/
LOCATION:
CATEGORIES:Webinar
END:VEVENT
END:VCALENDAR
