BEGIN:VCALENDAR
VERSION:2.0
PRODID:-//New Economy Initiative//NONSGML v1.0//EN
CALSCALE:GREGORIAN
METHOD:PUBLISH
X-WR-CALNAME:New Economy Initiative
X-ORIGINAL-URL:https://neweconomyinitiative.org
X-WR-CALDESC:Events for New Economy Initiative
BEGIN:VEVENT
DTSTART;TZID=America/Detroit:20200827T090000
DTEND;TZID=America/Detroit:20200827T100000
DTSTAMP:20260423T112455
CREATED:20200825T091050
LAST-MODIFIED:20200825T091050
UID:4728-09:00-10:00@neweconomyinitiative.org
SUMMARY:Entrepreneurship\, Inclusive Prosperity\, and the Wealth Gap: Conditions for US Programs and Policies
DESCRIPTION:This Entrepreneurship Issue Forum will bring together the evidence base\, applications\, and important framing conditions for program and policy interventions addressing economic inequality.
URL:https://neweconomyinitiative.org/event/entrepreneurship-inclusive-prosperity-and-the-wealth-gap-conditions-for-us-programs-and-policies/
LOCATION:
CATEGORIES:Webinar
END:VEVENT
END:VCALENDAR
