BEGIN:VCALENDAR
VERSION:2.0
PRODID:-//New Economy Initiative//NONSGML v1.0//EN
CALSCALE:GREGORIAN
METHOD:PUBLISH
X-WR-CALNAME:New Economy Initiative
X-ORIGINAL-URL:https://neweconomyinitiative.org
X-WR-CALDESC:Events for New Economy Initiative
BEGIN:VEVENT
DTSTART;TZID=America/Detroit:20200827T120000
DTEND;TZID=America/Detroit:20200827T130000
DTSTAMP:20260423T100040
CREATED:20200825T104505
LAST-MODIFIED:20200825T104505
UID:4731-12:00-13:00@neweconomyinitiative.org
SUMMARY:Design & Dine: Psychological Safety Within the Built Environment
DESCRIPTION:Join Pophouse for recommendations on designing your current work spaces with individual well-being and business success at the forefront.
URL:https://neweconomyinitiative.org/event/design-dine-psychological-safety-within-the-built-environment/
LOCATION:
CATEGORIES:Webinar
END:VEVENT
END:VCALENDAR
