BEGIN:VCALENDAR
VERSION:2.0
PRODID:-//New Economy Initiative//NONSGML v1.0//EN
CALSCALE:GREGORIAN
METHOD:PUBLISH
X-WR-CALNAME:New Economy Initiative
X-ORIGINAL-URL:https://neweconomyinitiative.org
X-WR-CALDESC:Events for New Economy Initiative
BEGIN:VEVENT
DTSTART;TZID=America/Detroit:20200910T100000
DTEND;TZID=America/Detroit:20200910T160000
DTSTAMP:20260423T045934
CREATED:20200825T151432
LAST-MODIFIED:20200825T151432
UID:4763-10:00-16:00@neweconomyinitiative.org
SUMMARY:ENDURING INNOVATION: ENTREPRENEURS UNITE!
DESCRIPTION:Join Design Core Detroit for this virtual conference with Design 101 presentations\, Top 10 guideposts for start-ups\, local start-up panels and fun elements for happy hour. It’s free but limited to 100 seats (virtually)\, so make sure to sign up!
URL:https://neweconomyinitiative.org/event/enduring-innovation-entrepreneurs-unite/
LOCATION:
CATEGORIES:Webinar
END:VEVENT
END:VCALENDAR
