BEGIN:VCALENDAR
VERSION:2.0
PRODID:-//New Economy Initiative//NONSGML v1.0//EN
CALSCALE:GREGORIAN
METHOD:PUBLISH
X-WR-CALNAME:New Economy Initiative
X-ORIGINAL-URL:https://neweconomyinitiative.org
X-WR-CALDESC:Events for New Economy Initiative
BEGIN:VEVENT
DTSTART;TZID=America/Detroit:20200908T120000
DTEND;TZID=America/Detroit:20200908T133000
DTSTAMP:20260423T080525
CREATED:20200825T152459
LAST-MODIFIED:20200825T153637
UID:4769-12:00-13:30@neweconomyinitiative.org
SUMMARY:REBOOTING THE WORLD
DESCRIPTION:In a world struck by a pandemic\, we must reconsider our priorities. What is the significance and function of design today? How does a discipline often associated with luxury\, style\, or beauty help communities of the world to deal with today‘s challenges\, adapt to changed conditions\, and ensure the safety and connections between people? What is the role of design and designers in “rebooting” the world?
URL:https://neweconomyinitiative.org/event/design-core-detroit-rebooting-the-world/
LOCATION:
CATEGORIES:Webinar
END:VEVENT
END:VCALENDAR
