BEGIN:VCALENDAR
VERSION:2.0
PRODID:-//New Economy Initiative//NONSGML v1.0//EN
CALSCALE:GREGORIAN
METHOD:PUBLISH
X-WR-CALNAME:New Economy Initiative
X-ORIGINAL-URL:https://neweconomyinitiative.org
X-WR-CALDESC:Events for New Economy Initiative
BEGIN:VEVENT
DTSTART;TZID=America/Detroit:20200910T100000
DTEND;TZID=America/Detroit:20200910T113000
DTSTAMP:20260423T063116
CREATED:20200909T171925
LAST-MODIFIED:20200909T171925
UID:4846-10:00-11:30@neweconomyinitiative.org
SUMMARY:A New Way Forward: Reimagining the Nonprofit Workspace Virtual Engagement Series
DESCRIPTION:Presented by: Council of Michigan Foundations\, Michigan Nonprofit Association\, Michigan Community Resources and Co.act Detroit This engaging and interactive multi-part series will provide guidance to Michigan’s nonprofits as they consider re-entry into the workplace. Sessions will be grounded in equity as we balance the exploration of legal\, HR and financial requirements as well as ways to strengthen team culture\, redefine the work space and realign to mission.
URL:https://neweconomyinitiative.org/event/a-new-way-forward-reimagining-the-nonprofit-workspace-virtual-engagement-series/
LOCATION:
CATEGORIES:Webinar
END:VEVENT
END:VCALENDAR
